BEGIN:VCALENDAR
VERSION:2.0
PRODID:-// - ECPv6.15.15//NONSGML v1.0//EN
CALSCALE:GREGORIAN
METHOD:PUBLISH
X-ORIGINAL-URL:https://eastdorset.sdgr.org.uk
X-WR-CALDESC:Events for 
REFRESH-INTERVAL;VALUE=DURATION:PT1H
X-Robots-Tag:noindex
X-PUBLISHED-TTL:PT1H
BEGIN:VTIMEZONE
TZID:UTC
BEGIN:STANDARD
TZOFFSETFROM:+0000
TZOFFSETTO:+0000
TZNAME:UTC
DTSTART:20250101T000000
END:STANDARD
END:VTIMEZONE
BEGIN:VEVENT
DTSTART;TZID=UTC:20260110T140000
DTEND;TZID=UTC:20260110T183000
DTSTAMP:20260421T165854
CREATED:20250115T161247Z
LAST-MODIFIED:20250115T163659Z
UID:1331-1768053600-1768069800@eastdorset.sdgr.org.uk
SUMMARY:10th January - Annual General Meeting
DESCRIPTION:Ringing from 14.00 – 16.00 followed by service\, tea\, and annual general meeting \nPlease enable JavaScript in your browser to complete this form.NameBook Now For:16th May Ring for your Cream Tea Kingston17th October - Autumn Quarterly - Oakdale9th January AGM PooleYour TowerApologies - please list namesNumbers of RingersNumber for TeaEmail *CommentsSubmit
URL:https://eastdorset.sdgr.org.uk/event/10th-january-annual-general-meeting/
LOCATION:Wareham
CATEGORIES:Events
END:VEVENT
END:VCALENDAR