BEGIN:VCALENDAR
VERSION:2.0
PRODID:-// - ECPv6.15.15//NONSGML v1.0//EN
CALSCALE:GREGORIAN
METHOD:PUBLISH
X-ORIGINAL-URL:https://eastdorset.sdgr.org.uk
X-WR-CALDESC:Events for 
REFRESH-INTERVAL;VALUE=DURATION:PT1H
X-Robots-Tag:noindex
X-PUBLISHED-TTL:PT1H
BEGIN:VTIMEZONE
TZID:UTC
BEGIN:STANDARD
TZOFFSETFROM:+0000
TZOFFSETTO:+0000
TZNAME:UTC
DTSTART:20250101T000000
END:STANDARD
END:VTIMEZONE
BEGIN:VEVENT
DTSTART;TZID=UTC:20260516T140000
DTEND;TZID=UTC:20260516T170000
DTSTAMP:20260421T140259
CREATED:20260309T141654Z
LAST-MODIFIED:20260309T141922Z
UID:1476-1778940000-1778950800@eastdorset.sdgr.org.uk
SUMMARY:16th May - Ring for your Cream Tea
DESCRIPTION:Please enable JavaScript in your browser to complete this form.NameBook Now For:16th May Ring for your Cream Tea Kingston17th October - Autumn Quarterly - Oakdale9th January AGM PooleYour TowerApologies - please list namesNumbers of RingersNumber for TeaEmail *CommentsSubmit
URL:https://eastdorset.sdgr.org.uk/event/16th-may-ring-for-your-cream-tea/
LOCATION:Kingston
CATEGORIES:Events
END:VEVENT
BEGIN:VEVENT
DTSTART;TZID=UTC:20260530T140000
DTEND;TZID=UTC:20260530T170000
DTSTAMP:20260421T140259
CREATED:20260309T142617Z
LAST-MODIFIED:20260309T142617Z
UID:1485-1780149600-1780160400@eastdorset.sdgr.org.uk
SUMMARY:30th May Bonanza - Lytchett Minster
DESCRIPTION:Please enable JavaScript in your browser to complete this form.Register Your Teams 30th May - BonanzaNameTowerEmail *Novice Striking Competition - Number of Teams6 Bell Striking Competition - Number of TeamsCommentsSubmit
URL:https://eastdorset.sdgr.org.uk/event/30th-may-bonanza-lytchett-minster/
LOCATION:Lytchett Minster
CATEGORIES:Events
END:VEVENT
END:VCALENDAR