BEGIN:VCALENDAR
VERSION:2.0
PRODID:-// - ECPv6.15.15//NONSGML v1.0//EN
CALSCALE:GREGORIAN
METHOD:PUBLISH
X-ORIGINAL-URL:https://eastdorset.sdgr.org.uk
X-WR-CALDESC:Events for 
REFRESH-INTERVAL;VALUE=DURATION:PT1H
X-Robots-Tag:noindex
X-PUBLISHED-TTL:PT1H
BEGIN:VTIMEZONE
TZID:UTC
BEGIN:STANDARD
TZOFFSETFROM:+0000
TZOFFSETTO:+0000
TZNAME:UTC
DTSTART:20250101T000000
END:STANDARD
END:VTIMEZONE
BEGIN:VEVENT
DTSTART;TZID=UTC:20260711T190000
DTEND;TZID=UTC:20260711T210000
DTSTAMP:20260421T165902
CREATED:20260309T153119Z
LAST-MODIFIED:20260309T153559Z
UID:1488-1783796400-1783803600@eastdorset.sdgr.org.uk
SUMMARY:11th July Branch Practice - Worth Matravers
DESCRIPTION:Please enable JavaScript in your browser to complete this form.NameBook Now For:14th March Iwerne Minster11th July Worth Matravers8th August Pimperne12th September Wimborne14th November Winterborne Kingston12th December SpetisburyYour TowerNumbers of RingersEmail *CommentsSubmit
URL:https://eastdorset.sdgr.org.uk/event/11th-july-branch-practice-worth-matravers/
LOCATION:Worth Matravers
CATEGORIES:Events
END:VEVENT
END:VCALENDAR