BEGIN:VCALENDAR
VERSION:2.0
PRODID:-// - ECPv6.15.15//NONSGML v1.0//EN
CALSCALE:GREGORIAN
METHOD:PUBLISH
X-ORIGINAL-URL:https://eastdorset.sdgr.org.uk
X-WR-CALDESC:Events for 
REFRESH-INTERVAL;VALUE=DURATION:PT1H
X-Robots-Tag:noindex
X-PUBLISHED-TTL:PT1H
BEGIN:VTIMEZONE
TZID:UTC
BEGIN:STANDARD
TZOFFSETFROM:+0000
TZOFFSETTO:+0000
TZNAME:UTC
DTSTART:20230101T000000
END:STANDARD
END:VTIMEZONE
BEGIN:VEVENT
DTSTART;TZID=UTC:20240406T140000
DTEND;TZID=UTC:20240406T180000
DTSTAMP:20260423T024742
CREATED:20240119T153328Z
LAST-MODIFIED:20240318T213644Z
UID:1057-1712412000-1712426400@eastdorset.sdgr.org.uk
SUMMARY:April Spring Quarterly
DESCRIPTION:Please enable JavaScript in your browser to complete this form.NameBook Now For:16th May Ring for your Cream Tea Kingston17th October - Autumn Quarterly - Oakdale9th January AGM PooleYour TowerApologies - please list namesNumbers of RingersNumber for TeaEmail *CommentsSubmit
URL:https://eastdorset.sdgr.org.uk/event/spring-quarterly/
LOCATION:Wareham
CATEGORIES:Events
END:VEVENT
END:VCALENDAR