BEGIN:VCALENDAR
VERSION:2.0
PRODID:-// - ECPv6.15.15//NONSGML v1.0//EN
CALSCALE:GREGORIAN
METHOD:PUBLISH
X-ORIGINAL-URL:https://eastdorset.sdgr.org.uk
X-WR-CALDESC:Events for 
REFRESH-INTERVAL;VALUE=DURATION:PT1H
X-Robots-Tag:noindex
X-PUBLISHED-TTL:PT1H
BEGIN:VTIMEZONE
TZID:UTC
BEGIN:STANDARD
TZOFFSETFROM:+0000
TZOFFSETTO:+0000
TZNAME:UTC
DTSTART:20230101T000000
END:STANDARD
END:VTIMEZONE
BEGIN:VEVENT
DTSTART;TZID=UTC:20240713T170000
DTEND;TZID=UTC:20240713T190000
DTSTAMP:20260422T221759
CREATED:20240225T120223Z
LAST-MODIFIED:20240711T122536Z
UID:1117-1720890000-1720897200@eastdorset.sdgr.org.uk
SUMMARY:13 July - 8 Bell Mini Outing - CANCELLED
DESCRIPTION:Cranborne\, Fordingbridge and Downton (8) \nPlease enable JavaScript in your browser to complete this form.NameBook Now For:14th March Iwerne Minster11th July Worth Matravers8th August Pimperne12th September Wimborne14th November Winterborne Kingston12th December SpetisburyYour TowerNumbers of RingersEmail *CommentsSubmit
URL:https://eastdorset.sdgr.org.uk/event/13-july-8-bell-mini-outing/
CATEGORIES:Events
END:VEVENT
END:VCALENDAR