BEGIN:VCALENDAR
VERSION:2.0
PRODID:-// - ECPv6.15.15//NONSGML v1.0//EN
CALSCALE:GREGORIAN
METHOD:PUBLISH
X-ORIGINAL-URL:https://eastdorset.sdgr.org.uk
X-WR-CALDESC:Events for 
REFRESH-INTERVAL;VALUE=DURATION:PT1H
X-Robots-Tag:noindex
X-PUBLISHED-TTL:PT1H
BEGIN:VTIMEZONE
TZID:UTC
BEGIN:STANDARD
TZOFFSETFROM:+0000
TZOFFSETTO:+0000
TZNAME:UTC
DTSTART:20230101T000000
END:STANDARD
END:VTIMEZONE
BEGIN:VEVENT
DTSTART;TZID=UTC:20240928T190000
DTEND;TZID=UTC:20240928T210000
DTSTAMP:20260422T191809
CREATED:20240225T121208Z
LAST-MODIFIED:20240525T134157Z
UID:1125-1727550000-1727557200@eastdorset.sdgr.org.uk
SUMMARY:28 September Branch 12 Bell Practice
DESCRIPTION:12 Bell Practice \nPlease enable JavaScript in your browser to complete this form.NameBook Now For:14th March Iwerne Minster11th July Worth Matravers8th August Pimperne12th September Wimborne14th November Winterborne Kingston12th December SpetisburyYour TowerNumbers of RingersEmail *CommentsSubmit
URL:https://eastdorset.sdgr.org.uk/event/28-september-branch-12-bell-practice/
LOCATION:Christchurch Priory
CATEGORIES:Events
END:VEVENT
END:VCALENDAR