BEGIN:VCALENDAR
VERSION:2.0
PRODID:-// - ECPv6.15.15//NONSGML v1.0//EN
CALSCALE:GREGORIAN
METHOD:PUBLISH
X-ORIGINAL-URL:https://eastdorset.sdgr.org.uk
X-WR-CALDESC:Events for 
REFRESH-INTERVAL;VALUE=DURATION:PT1H
X-Robots-Tag:noindex
X-PUBLISHED-TTL:PT1H
BEGIN:VTIMEZONE
TZID:UTC
BEGIN:STANDARD
TZOFFSETFROM:+0000
TZOFFSETTO:+0000
TZNAME:UTC
DTSTART:20230101T000000
END:STANDARD
END:VTIMEZONE
BEGIN:VEVENT
DTSTART;TZID=UTC:20241019T130000
DTEND;TZID=UTC:20241019T183000
DTSTAMP:20260422T174407
CREATED:20240225T121546Z
LAST-MODIFIED:20240525T134627Z
UID:1129-1729342800-1729362600@eastdorset.sdgr.org.uk
SUMMARY:19 October - Autumn Quarterly
DESCRIPTION:Milton Abbey (8) and Winterborne Whitechurch (6) \nPlease enable JavaScript in your browser to complete this form.NameBook Now For:16th May Ring for your Cream Tea Kingston17th October - Autumn Quarterly - Oakdale9th January AGM PooleYour TowerApologies - please list namesNumbers of RingersNumber for TeaEmail *CommentsSubmit
URL:https://eastdorset.sdgr.org.uk/event/19-october-autumn-quarterly/
LOCATION:Winterborne Whitechurch (6)
CATEGORIES:Events
END:VEVENT
END:VCALENDAR