BEGIN:VCALENDAR
VERSION:2.0
PRODID:-// - ECPv6.15.15//NONSGML v1.0//EN
CALSCALE:GREGORIAN
METHOD:PUBLISH
X-ORIGINAL-URL:https://eastdorset.sdgr.org.uk
X-WR-CALDESC:Events for 
REFRESH-INTERVAL;VALUE=DURATION:PT1H
X-Robots-Tag:noindex
X-PUBLISHED-TTL:PT1H
BEGIN:VTIMEZONE
TZID:UTC
BEGIN:STANDARD
TZOFFSETFROM:+0000
TZOFFSETTO:+0000
TZNAME:UTC
DTSTART:20240101T000000
END:STANDARD
END:VTIMEZONE
BEGIN:VEVENT
DTSTART;TZID=UTC:20250517T140000
DTEND;TZID=UTC:20250517T170000
DTSTAMP:20260422T075432
CREATED:20250115T155943Z
LAST-MODIFIED:20250414T183404Z
UID:1315-1747490400-1747501200@eastdorset.sdgr.org.uk
SUMMARY:17th May - Ring for your Cream Tea
DESCRIPTION:Ringing from 14.00 – 16.00 \nfollowed by a cream tea\, with profits to support the Young Ringers \nPlease enable JavaScript in your browser to complete this form.NameBook Now For:16th May Ring for your Cream Tea Kingston17th October - Autumn Quarterly - Oakdale9th January AGM PooleYour TowerApologies - please list namesNumbers of RingersNumber for TeaEmail *CommentsSubmit
URL:https://eastdorset.sdgr.org.uk/event/17th-may-ring-for-your-cream-tea/
LOCATION:Lytchett Matravers
CATEGORIES:Events
END:VEVENT
END:VCALENDAR