BEGIN:VCALENDAR
VERSION:2.0
PRODID:-// - ECPv6.15.15//NONSGML v1.0//EN
CALSCALE:GREGORIAN
METHOD:PUBLISH
X-ORIGINAL-URL:https://eastdorset.sdgr.org.uk
X-WR-CALDESC:Events for 
REFRESH-INTERVAL;VALUE=DURATION:PT1H
X-Robots-Tag:noindex
X-PUBLISHED-TTL:PT1H
BEGIN:VTIMEZONE
TZID:UTC
BEGIN:STANDARD
TZOFFSETFROM:+0000
TZOFFSETTO:+0000
TZNAME:UTC
DTSTART:20230101T000000
END:STANDARD
END:VTIMEZONE
BEGIN:VEVENT
DTSTART;TZID=UTC:20260411T140000
DTEND;TZID=UTC:20260411T160000
DTSTAMP:20260421T124040
CREATED:20260111T152923Z
LAST-MODIFIED:20260111T153104Z
UID:1448-1775916000-1775923200@eastdorset.sdgr.org.uk
SUMMARY:11th April - Spring Quarterly
DESCRIPTION:Please enable JavaScript in your browser to complete this form.NameBook Now For:16th May Ring for your Cream Tea Kingston17th October - Autumn Quarterly - Oakdale9th January AGM PooleYour TowerApologies - please list namesNumbers of RingersNumber for TeaEmail *CommentsSubmit
URL:https://eastdorset.sdgr.org.uk/event/11th-april-spring-quarterly/
LOCATION:Sturminster Marshal
CATEGORIES:Events
END:VEVENT
BEGIN:VEVENT
DTSTART;TZID=UTC:20260314T140000
DTEND;TZID=UTC:20260314T160000
DTSTAMP:20260421T124040
CREATED:20260111T150653Z
LAST-MODIFIED:20260111T152610Z
UID:1443-1773496800-1773504000@eastdorset.sdgr.org.uk
SUMMARY:14th March - Branch Practice
DESCRIPTION:Please enable JavaScript in your browser to complete this form.NameBook Now For:14th March Iwerne Minster11th July Worth Matravers8th August Pimperne12th September Wimborne14th November Winterborne Kingston12th December SpetisburyYour TowerNumbers of RingersEmail *CommentsSubmit
URL:https://eastdorset.sdgr.org.uk/event/14th-march-branch-practice/
LOCATION:Iwerne Minster
CATEGORIES:Events
END:VEVENT
BEGIN:VEVENT
DTSTART;TZID=UTC:20260214T140000
DTEND;TZID=UTC:20260214T160000
DTSTAMP:20260421T124040
CREATED:20260111T150006Z
LAST-MODIFIED:20260111T150327Z
UID:1437-1771077600-1771084800@eastdorset.sdgr.org.uk
SUMMARY:14th February - Branch Practice
DESCRIPTION:Please enable JavaScript in your browser to complete this form.NameBook Now For:14th March Iwerne Minster11th July Worth Matravers8th August Pimperne12th September Wimborne14th November Winterborne Kingston12th December SpetisburyYour TowerNumbers of RingersEmail *CommentsSubmit
URL:https://eastdorset.sdgr.org.uk/event/14th-february-branch-practice/
LOCATION:Corfe Mullen
CATEGORIES:Events
END:VEVENT
BEGIN:VEVENT
DTSTART;TZID=UTC:20260110T140000
DTEND;TZID=UTC:20260110T183000
DTSTAMP:20260421T124040
CREATED:20250115T161247Z
LAST-MODIFIED:20250115T163659Z
UID:1331-1768053600-1768069800@eastdorset.sdgr.org.uk
SUMMARY:10th January - Annual General Meeting
DESCRIPTION:Ringing from 14.00 – 16.00 followed by service\, tea\, and annual general meeting \nPlease enable JavaScript in your browser to complete this form.NameBook Now For:16th May Ring for your Cream Tea Kingston17th October - Autumn Quarterly - Oakdale9th January AGM PooleYour TowerApologies - please list namesNumbers of RingersNumber for TeaEmail *CommentsSubmit
URL:https://eastdorset.sdgr.org.uk/event/10th-january-annual-general-meeting/
LOCATION:Wareham
CATEGORIES:Events
END:VEVENT
BEGIN:VEVENT
DTSTART;TZID=UTC:20251213T133000
DTEND;TZID=UTC:20251213T160000
DTSTAMP:20260421T124040
CREATED:20250115T161129Z
LAST-MODIFIED:20250115T162727Z
UID:1329-1765632600-1765641600@eastdorset.sdgr.org.uk
SUMMARY:13th December - Branch Practice & Carols
DESCRIPTION:Ringing from 13.30 – 15.00 \nfollowed by Christmas Carols in the Minster and seasonal refreshments \nPlease enable JavaScript in your browser to complete this form.NameBook Now For:14th March Iwerne Minster11th July Worth Matravers8th August Pimperne12th September Wimborne14th November Winterborne Kingston12th December SpetisburyYour TowerNumbers of RingersEmail *CommentsSubmit
URL:https://eastdorset.sdgr.org.uk/event/13th-december-branch-practice-carols/
LOCATION:Wimborne Minster
CATEGORIES:Events
END:VEVENT
BEGIN:VEVENT
DTSTART;TZID=UTC:20251115T140000
DTEND;TZID=UTC:20251115T160000
DTSTAMP:20260421T124040
CREATED:20250115T161010Z
LAST-MODIFIED:20250115T162412Z
UID:1327-1763215200-1763222400@eastdorset.sdgr.org.uk
SUMMARY:15th November - Branch Practice
DESCRIPTION:Please enable JavaScript in your browser to complete this form.NameBook Now For:14th March Iwerne Minster11th July Worth Matravers8th August Pimperne12th September Wimborne14th November Winterborne Kingston12th December SpetisburyYour TowerNumbers of RingersEmail *CommentsSubmit
URL:https://eastdorset.sdgr.org.uk/event/15th-november-branch-practice/
LOCATION:Durweston
CATEGORIES:Events
END:VEVENT
BEGIN:VEVENT
DTSTART;TZID=UTC:20251018T140000
DTEND;TZID=UTC:20251018T183000
DTSTAMP:20260421T124040
CREATED:20250115T160850Z
LAST-MODIFIED:20250115T163055Z
UID:1325-1760796000-1760812200@eastdorset.sdgr.org.uk
SUMMARY:18th October - Autumn Quarterly
DESCRIPTION:Ringing from 14.00 – 16.00 followed by service\, tea\, and meeting \nPlease enable JavaScript in your browser to complete this form.NameBook Now For:16th May Ring for your Cream Tea Kingston17th October - Autumn Quarterly - Oakdale9th January AGM PooleYour TowerApologies - please list namesNumbers of RingersNumber for TeaEmail *CommentsSubmit
URL:https://eastdorset.sdgr.org.uk/event/18th-october-autumn-quarterly/
LOCATION:Swanage
CATEGORIES:Events
END:VEVENT
BEGIN:VEVENT
DTSTART;TZID=UTC:20250927T190000
DTEND;TZID=UTC:20250927T210000
DTSTAMP:20260421T124040
CREATED:20250115T160735Z
LAST-MODIFIED:20250320T153607Z
UID:1323-1758999600-1759006800@eastdorset.sdgr.org.uk
SUMMARY:27th September - Branch 12-Bell Practice
DESCRIPTION:Please enable JavaScript in your browser to complete this form.NameBook Now For:14th March Iwerne Minster11th July Worth Matravers8th August Pimperne12th September Wimborne14th November Winterborne Kingston12th December SpetisburyYour TowerNumbers of RingersEmail *CommentsSubmit
URL:https://eastdorset.sdgr.org.uk/event/20th-september-branch-12-bell-practice/
LOCATION:Christchurch Priory
CATEGORIES:Events
END:VEVENT
BEGIN:VEVENT
DTSTART;TZID=UTC:20250823T140000
DTEND;TZID=UTC:20250823T160000
DTSTAMP:20260421T124040
CREATED:20250115T160608Z
LAST-MODIFIED:20250115T162344Z
UID:1321-1755957600-1755964800@eastdorset.sdgr.org.uk
SUMMARY:23rd August - Branch Practice
DESCRIPTION:Please enable JavaScript in your browser to complete this form.NameBook Now For:14th March Iwerne Minster11th July Worth Matravers8th August Pimperne12th September Wimborne14th November Winterborne Kingston12th December SpetisburyYour TowerNumbers of RingersEmail *CommentsSubmit
URL:https://eastdorset.sdgr.org.uk/event/23rd-august-branch-practice/
LOCATION:Cranborne
CATEGORIES:Events
END:VEVENT
BEGIN:VEVENT
DTSTART;TZID=UTC:20250719T140000
DTEND;TZID=UTC:20250719T160000
DTSTAMP:20260421T124040
CREATED:20250115T160303Z
LAST-MODIFIED:20250115T162334Z
UID:1319-1752933600-1752940800@eastdorset.sdgr.org.uk
SUMMARY:19th July - Branch Practice
DESCRIPTION:Please enable JavaScript in your browser to complete this form.NameBook Now For:14th March Iwerne Minster11th July Worth Matravers8th August Pimperne12th September Wimborne14th November Winterborne Kingston12th December SpetisburyYour TowerNumbers of RingersEmail *CommentsSubmit
URL:https://eastdorset.sdgr.org.uk/event/19th-july-branch-practice/
LOCATION:Fontmell Magma
CATEGORIES:Events
END:VEVENT
BEGIN:VEVENT
DTSTART;TZID=UTC:20250614T140000
DTEND;TZID=UTC:20250614T170000
DTSTAMP:20260421T124040
CREATED:20250115T160150Z
LAST-MODIFIED:20250320T153414Z
UID:1317-1749909600-1749920400@eastdorset.sdgr.org.uk
SUMMARY:14th June - Bonanza
DESCRIPTION:Venue TBC \nNovice and Method-band striking competitions with cake and limerick competitions\, and refreshments \nPlease enable JavaScript in your browser to complete this form.Register Your Teams 30th May - BonanzaNameTowerEmail *Novice Striking Competition - Number of Teams6 Bell Striking Competition - Number of TeamsCommentsSubmit
URL:https://eastdorset.sdgr.org.uk/event/14th-june-bonanza/
CATEGORIES:Events
END:VEVENT
BEGIN:VEVENT
DTSTART;TZID=UTC:20250517T140000
DTEND;TZID=UTC:20250517T170000
DTSTAMP:20260421T124040
CREATED:20250115T155943Z
LAST-MODIFIED:20250414T183404Z
UID:1315-1747490400-1747501200@eastdorset.sdgr.org.uk
SUMMARY:17th May - Ring for your Cream Tea
DESCRIPTION:Ringing from 14.00 – 16.00 \nfollowed by a cream tea\, with profits to support the Young Ringers \nPlease enable JavaScript in your browser to complete this form.NameBook Now For:16th May Ring for your Cream Tea Kingston17th October - Autumn Quarterly - Oakdale9th January AGM PooleYour TowerApologies - please list namesNumbers of RingersNumber for TeaEmail *CommentsSubmit
URL:https://eastdorset.sdgr.org.uk/event/17th-may-ring-for-your-cream-tea/
LOCATION:Lytchett Matravers
CATEGORIES:Events
END:VEVENT
BEGIN:VEVENT
DTSTART;TZID=UTC:20250412T140000
DTEND;TZID=UTC:20250412T183000
DTSTAMP:20260421T124040
CREATED:20250115T155615Z
LAST-MODIFIED:20250320T153304Z
UID:1312-1744466400-1744482600@eastdorset.sdgr.org.uk
SUMMARY:12th April - Spring Quarterly
DESCRIPTION:Ringing from 14.00 – 16.00 followed by service\, tea\, and meeting \nPlease enable JavaScript in your browser to complete this form.NameBook Now For:16th May Ring for your Cream Tea Kingston17th October - Autumn Quarterly - Oakdale9th January AGM PooleYour TowerApologies - please list namesNumbers of RingersNumber for TeaEmail *CommentsSubmit
URL:https://eastdorset.sdgr.org.uk/event/12th-april/
LOCATION:Witchampton
CATEGORIES:Events
END:VEVENT
BEGIN:VEVENT
DTSTART;TZID=UTC:20250315T140000
DTEND;TZID=UTC:20250315T160000
DTSTAMP:20260421T124040
CREATED:20250115T155513Z
LAST-MODIFIED:20250115T162316Z
UID:1310-1742047200-1742054400@eastdorset.sdgr.org.uk
SUMMARY:15th March - Branch Practice
DESCRIPTION:Please enable JavaScript in your browser to complete this form.NameBook Now For:14th March Iwerne Minster11th July Worth Matravers8th August Pimperne12th September Wimborne14th November Winterborne Kingston12th December SpetisburyYour TowerNumbers of RingersEmail *CommentsSubmit
URL:https://eastdorset.sdgr.org.uk/event/15th-march-branch-practice/
LOCATION:Bournemouth\, St John
CATEGORIES:Events
END:VEVENT
BEGIN:VEVENT
DTSTART;TZID=UTC:20250215T140000
DTEND;TZID=UTC:20250215T160000
DTSTAMP:20260421T124040
CREATED:20250115T152706Z
LAST-MODIFIED:20250115T162235Z
UID:1296-1739628000-1739635200@eastdorset.sdgr.org.uk
SUMMARY:15th February - Branch Practice
DESCRIPTION:Please enable JavaScript in your browser to complete this form.NameBook Now For:14th March Iwerne Minster11th July Worth Matravers8th August Pimperne12th September Wimborne14th November Winterborne Kingston12th December SpetisburyYour TowerNumbers of RingersEmail *CommentsSubmit
URL:https://eastdorset.sdgr.org.uk/event/15th-february-branch-practice/
LOCATION:Corfe Castle
CATEGORIES:Events
END:VEVENT
BEGIN:VEVENT
DTSTART;TZID=UTC:20250111T140000
DTEND;TZID=UTC:20250111T190000
DTSTAMP:20260421T124040
CREATED:20240225T122409Z
LAST-MODIFIED:20241229T175212Z
UID:1142-1736604000-1736622000@eastdorset.sdgr.org.uk
SUMMARY:11 January 2025 - Annual General Meeting
DESCRIPTION:Please enable JavaScript in your browser to complete this form.NameBook Now For:16th May Ring for your Cream Tea Kingston17th October - Autumn Quarterly - Oakdale9th January AGM PooleYour TowerApologies - please list namesNumbers of RingersNumber for TeaEmail *CommentsSubmit
URL:https://eastdorset.sdgr.org.uk/event/11-january-2025-annual-general-meeting/
LOCATION:Child Okeford
CATEGORIES:Events
END:VEVENT
BEGIN:VEVENT
DTSTART;TZID=UTC:20241214T013000
DTEND;TZID=UTC:20241214T160000
DTSTAMP:20260421T124040
CREATED:20240225T122249Z
LAST-MODIFIED:20241127T214954Z
UID:1140-1734139800-1734192000@eastdorset.sdgr.org.uk
SUMMARY:14 December Carol Service and Ringing
DESCRIPTION:Kingston \nPlease enable JavaScript in your browser to complete this form.NameBook Now For:14th March Iwerne Minster11th July Worth Matravers8th August Pimperne12th September Wimborne14th November Winterborne Kingston12th December SpetisburyYour TowerNumbers of RingersEmail *CommentsSubmit
URL:https://eastdorset.sdgr.org.uk/event/14-december-carol-service-and-ringing/
LOCATION:Kingston
CATEGORIES:Events
END:VEVENT
BEGIN:VEVENT
DTSTART;TZID=UTC:20241109T140000
DTEND;TZID=UTC:20241109T160000
DTSTAMP:20260421T124040
CREATED:20240225T121810Z
LAST-MODIFIED:20240525T134746Z
UID:1131-1731160800-1731168000@eastdorset.sdgr.org.uk
SUMMARY:9 November - Branch 10-Bell Practice
DESCRIPTION:Poole (10) \nPlease enable JavaScript in your browser to complete this form.NameBook Now For:14th March Iwerne Minster11th July Worth Matravers8th August Pimperne12th September Wimborne14th November Winterborne Kingston12th December SpetisburyYour TowerNumbers of RingersEmail *CommentsSubmit
URL:https://eastdorset.sdgr.org.uk/event/9-november-branch-10-bell-practice/
LOCATION:Poole (10)
CATEGORIES:Events
END:VEVENT
BEGIN:VEVENT
DTSTART;TZID=UTC:20241019T130000
DTEND;TZID=UTC:20241019T183000
DTSTAMP:20260421T124040
CREATED:20240225T121546Z
LAST-MODIFIED:20240525T134627Z
UID:1129-1729342800-1729362600@eastdorset.sdgr.org.uk
SUMMARY:19 October - Autumn Quarterly
DESCRIPTION:Milton Abbey (8) and Winterborne Whitechurch (6) \nPlease enable JavaScript in your browser to complete this form.NameBook Now For:16th May Ring for your Cream Tea Kingston17th October - Autumn Quarterly - Oakdale9th January AGM PooleYour TowerApologies - please list namesNumbers of RingersNumber for TeaEmail *CommentsSubmit
URL:https://eastdorset.sdgr.org.uk/event/19-october-autumn-quarterly/
LOCATION:Winterborne Whitechurch (6)
CATEGORIES:Events
END:VEVENT
BEGIN:VEVENT
DTSTART;TZID=UTC:20241005T130000
DTEND;TZID=UTC:20241005T180000
DTSTAMP:20260421T124040
CREATED:20240225T121323Z
LAST-MODIFIED:20240525T134400Z
UID:1127-1728133200-1728151200@eastdorset.sdgr.org.uk
SUMMARY:5 October Autumn Outing
DESCRIPTION:Westbury/Warminster area TBC \nPlease enable JavaScript in your browser to complete this form.NameBook Now For:14th March Iwerne Minster11th July Worth Matravers8th August Pimperne12th September Wimborne14th November Winterborne Kingston12th December SpetisburyYour TowerNumbers of RingersEmail *CommentsSubmit
URL:https://eastdorset.sdgr.org.uk/event/5-october-autumn-outing/
CATEGORIES:Events
END:VEVENT
BEGIN:VEVENT
DTSTART;TZID=UTC:20240928T190000
DTEND;TZID=UTC:20240928T210000
DTSTAMP:20260421T124040
CREATED:20240225T121208Z
LAST-MODIFIED:20240525T134157Z
UID:1125-1727550000-1727557200@eastdorset.sdgr.org.uk
SUMMARY:28 September Branch 12 Bell Practice
DESCRIPTION:12 Bell Practice \nPlease enable JavaScript in your browser to complete this form.NameBook Now For:14th March Iwerne Minster11th July Worth Matravers8th August Pimperne12th September Wimborne14th November Winterborne Kingston12th December SpetisburyYour TowerNumbers of RingersEmail *CommentsSubmit
URL:https://eastdorset.sdgr.org.uk/event/28-september-branch-12-bell-practice/
LOCATION:Christchurch Priory
CATEGORIES:Events
END:VEVENT
BEGIN:VEVENT
DTSTART;TZID=UTC:20240810T140000
DTEND;TZID=UTC:20240810T170000
DTSTAMP:20260421T124040
CREATED:20240225T120552Z
LAST-MODIFIED:20240525T134042Z
UID:1120-1723298400-1723309200@eastdorset.sdgr.org.uk
SUMMARY:10 August Striking Competition
DESCRIPTION:Please enable JavaScript in your browser to complete this form.Register Your Teams 30th May - BonanzaNameTowerEmail *Novice Striking Competition - Number of Teams6 Bell Striking Competition - Number of TeamsCommentsSubmit
URL:https://eastdorset.sdgr.org.uk/event/10-august-striking-competition/
LOCATION:Gussage St Michael (6)
CATEGORIES:Events
END:VEVENT
BEGIN:VEVENT
DTSTART;TZID=UTC:20240713T170000
DTEND;TZID=UTC:20240713T190000
DTSTAMP:20260421T124040
CREATED:20240225T120223Z
LAST-MODIFIED:20240711T122536Z
UID:1117-1720890000-1720897200@eastdorset.sdgr.org.uk
SUMMARY:13 July - 8 Bell Mini Outing - CANCELLED
DESCRIPTION:Cranborne\, Fordingbridge and Downton (8) \nPlease enable JavaScript in your browser to complete this form.NameBook Now For:14th March Iwerne Minster11th July Worth Matravers8th August Pimperne12th September Wimborne14th November Winterborne Kingston12th December SpetisburyYour TowerNumbers of RingersEmail *CommentsSubmit
URL:https://eastdorset.sdgr.org.uk/event/13-july-8-bell-mini-outing/
CATEGORIES:Events
END:VEVENT
BEGIN:VEVENT
DTSTART;TZID=UTC:20240608T140000
DTEND;TZID=UTC:20240608T170000
DTSTAMP:20260421T124040
CREATED:20240119T153812Z
LAST-MODIFIED:20240525T094349Z
UID:1065-1717855200-1717866000@eastdorset.sdgr.org.uk
SUMMARY:June Ring for your Cream Tea
DESCRIPTION:Poole – 10 Bell \nPlease enable JavaScript in your browser to complete this form.NameBook Now For:16th May Ring for your Cream Tea Kingston17th October - Autumn Quarterly - Oakdale9th January AGM PooleYour TowerApologies - please list namesNumbers of RingersNumber for TeaEmail *CommentsSubmit
URL:https://eastdorset.sdgr.org.uk/event/june-ring-for-your-cream-tea/
LOCATION:Poole (10)
CATEGORIES:Events
END:VEVENT
BEGIN:VEVENT
DTSTART;TZID=UTC:20240518T180000
DTEND;TZID=UTC:20240518T210000
DTSTAMP:20260421T124040
CREATED:20240119T153506Z
LAST-MODIFIED:20240318T213624Z
UID:1060-1716055200-1716066000@eastdorset.sdgr.org.uk
SUMMARY:May Branch 8-Bell Practice
DESCRIPTION:Bryanston (8) and Blandford Forum (8) \nPlease enable JavaScript in your browser to complete this form.NameBook Now For:14th March Iwerne Minster11th July Worth Matravers8th August Pimperne12th September Wimborne14th November Winterborne Kingston12th December SpetisburyYour TowerNumbers of RingersEmail *CommentsSubmit
URL:https://eastdorset.sdgr.org.uk/event/may-branch-8-bell-practice/
LOCATION:Bryanston (8)
CATEGORIES:Events
END:VEVENT
BEGIN:VEVENT
DTSTART;TZID=UTC:20240420T140000
DTEND;TZID=UTC:20240420T170000
DTSTAMP:20260421T124040
CREATED:20240307T144542Z
LAST-MODIFIED:20240318T213635Z
UID:1148-1713621600-1713632400@eastdorset.sdgr.org.uk
SUMMARY:New Ringers Social & Ringing Event
DESCRIPTION:SDGR East Dorset Branch Bellringers\nSaturday 20th April 2024\nat Lytchett Matravers (6 Bells\, Tenor 7-3-14)\n  \nTower & Simulator Tours | 14.00 – 14.30\nRinging | 14.30 – 17.00\n  \n\nIf you are a beginner or novice ringer\, you are invited to a get together to meet and greet your fellow ringers\, plus an opportunity to ring on the easy-going bells of Lytchett Matravers. \nYour teachers\, mentors and all branch members are most welcome to come along as well. We will cater for all standards and have experienced teachers standing by if you need any extra help.  In addition to general ringing\, the afternoon will include: \n\n\n  \n\n\n\nTours of the bell chamber to see the bells & simulator 14.00 – 14.30 only\nHandbell demonstration & have-a-go sessions\nTry out the computer simulated ringing programme ‘Ding’\nShort talks on the history of ringing and the Salisbury Guild\nDrinks\, biscuits & cake available all afternoon\n\n\nPlease just turn up on the day or preferably let us know you are coming by completing the booking form below or email east.dorset.training@gmail.com \n Any queries or questions\, please contact Training Officer\, Sue Bateman on 07790 605145. \nPlease enable JavaScript in your browser to complete this form.NameTowerEmail *PhoneCurrent ExperienceSubmit
URL:https://eastdorset.sdgr.org.uk/event/new-ringers-social-ringing-event/
LOCATION:Lytchett Matravers
CATEGORIES:Events
END:VEVENT
BEGIN:VEVENT
DTSTART;TZID=UTC:20240406T140000
DTEND;TZID=UTC:20240406T180000
DTSTAMP:20260421T124040
CREATED:20240119T153328Z
LAST-MODIFIED:20240318T213644Z
UID:1057-1712412000-1712426400@eastdorset.sdgr.org.uk
SUMMARY:April Spring Quarterly
DESCRIPTION:Please enable JavaScript in your browser to complete this form.NameBook Now For:16th May Ring for your Cream Tea Kingston17th October - Autumn Quarterly - Oakdale9th January AGM PooleYour TowerApologies - please list namesNumbers of RingersNumber for TeaEmail *CommentsSubmit
URL:https://eastdorset.sdgr.org.uk/event/spring-quarterly/
LOCATION:Wareham
CATEGORIES:Events
END:VEVENT
END:VCALENDAR