BEGIN:VCALENDAR
VERSION:2.0
PRODID:-// - ECPv6.15.15//NONSGML v1.0//EN
CALSCALE:GREGORIAN
METHOD:PUBLISH
X-ORIGINAL-URL:https://eastdorset.sdgr.org.uk
X-WR-CALDESC:Events for 
REFRESH-INTERVAL;VALUE=DURATION:PT1H
X-Robots-Tag:noindex
X-PUBLISHED-TTL:PT1H
BEGIN:VTIMEZONE
TZID:UTC
BEGIN:STANDARD
TZOFFSETFROM:+0000
TZOFFSETTO:+0000
TZNAME:UTC
DTSTART:20250101T000000
END:STANDARD
END:VTIMEZONE
BEGIN:VEVENT
DTSTART;TZID=UTC:20261212T133000
DTEND;TZID=UTC:20261212T160000
DTSTAMP:20260422T215050
CREATED:20260309T154844Z
LAST-MODIFIED:20260309T154938Z
UID:1506-1797082200-1797091200@eastdorset.sdgr.org.uk
SUMMARY:12th December Branch Practice and Carol Service Spetisbury
DESCRIPTION:Please enable JavaScript in your browser to complete this form.NameBook Now For:14th March Iwerne Minster11th July Worth Matravers8th August Pimperne12th September Wimborne14th November Winterborne Kingston12th December SpetisburyYour TowerNumbers of RingersEmail *CommentsSubmit
URL:https://eastdorset.sdgr.org.uk/event/12th-december-branch-practice-and-carol-service-spetisbury/
LOCATION:Spetisbury
CATEGORIES:Events
END:VEVENT
BEGIN:VEVENT
DTSTART;TZID=UTC:20270109T140000
DTEND;TZID=UTC:20270109T183000
DTSTAMP:20260422T215050
CREATED:20260309T155913Z
LAST-MODIFIED:20260309T155913Z
UID:1512-1799503200-1799519400@eastdorset.sdgr.org.uk
SUMMARY:9th January 2027 AGM Poole
DESCRIPTION:Please enable JavaScript in your browser to complete this form.NameBook Now For:16th May Ring for your Cream Tea Kingston17th October - Autumn Quarterly - Oakdale9th January AGM PooleYour TowerApologies - please list namesNumbers of RingersNumber for TeaEmail *CommentsSubmit
URL:https://eastdorset.sdgr.org.uk/event/9th-january-2027-agm-poole/
LOCATION:Poole (10)
CATEGORIES:Events
END:VEVENT
END:VCALENDAR