BEGIN:VCALENDAR
VERSION:2.0
PRODID:-// - ECPv6.15.15//NONSGML v1.0//EN
CALSCALE:GREGORIAN
METHOD:PUBLISH
X-ORIGINAL-URL:https://eastdorset.sdgr.org.uk
X-WR-CALDESC:Events for 
REFRESH-INTERVAL;VALUE=DURATION:PT1H
X-Robots-Tag:noindex
X-PUBLISHED-TTL:PT1H
BEGIN:VTIMEZONE
TZID:UTC
BEGIN:STANDARD
TZOFFSETFROM:+0000
TZOFFSETTO:+0000
TZNAME:UTC
DTSTART:20230101T000000
END:STANDARD
END:VTIMEZONE
BEGIN:VEVENT
DTSTART;TZID=UTC:20241026T100000
DTEND;TZID=UTC:20241026T120000
DTSTAMP:20260422T165414
CREATED:20240824T151806Z
LAST-MODIFIED:20240920T084828Z
UID:1271-1729936800-1729944000@eastdorset.sdgr.org.uk
SUMMARY:Trebling to Doubles
DESCRIPTION:Trainer – Jack Pease\n\n\n\nTower Witchampton\nCourse Requirements
URL:https://eastdorset.sdgr.org.uk/event/trebling-to-doubles/
LOCATION:Witchampton
CATEGORIES:Training - Contact east.dorset.training@gmail.com
END:VEVENT
END:VCALENDAR