BEGIN:VCALENDAR
VERSION:2.0
PRODID:-// - ECPv6.15.15//NONSGML v1.0//EN
CALSCALE:GREGORIAN
METHOD:PUBLISH
X-ORIGINAL-URL:https://eastdorset.sdgr.org.uk
X-WR-CALDESC:Events for 
REFRESH-INTERVAL;VALUE=DURATION:PT1H
X-Robots-Tag:noindex
X-PUBLISHED-TTL:PT1H
BEGIN:VTIMEZONE
TZID:UTC
BEGIN:STANDARD
TZOFFSETFROM:+0000
TZOFFSETTO:+0000
TZNAME:UTC
DTSTART:20230101T000000
END:STANDARD
END:VTIMEZONE
BEGIN:VEVENT
DTSTART;TZID=UTC:20250531T100000
DTEND;TZID=UTC:20250531T120000
DTSTAMP:20260421T131703
CREATED:20250315T153808Z
LAST-MODIFIED:20250502T145302Z
UID:1388-1748685600-1748692800@eastdorset.sdgr.org.uk
SUMMARY:East Dorset Ringing School - Plain Bob Doubles - Saturday Course - Course Full
DESCRIPTION:More helpers required – please see below for contact details. \nSuitable for \nThose able to ring the treble confidently to a touch of a Doubles method i.e acquired some ropesight. \nWant to apply for another course? \n\nEmailing east.dorset.training@gmail.com to apply for a place. Please note you will be signing up for all 6 sessions but it’s not a problem if you can only make 5 out of 6.\nDownloading the Spond app to your phone to join the Ringing School by using this link https://group.spond.com/XZGCR.  If you don’t have a smartphone\, please email east.dorset.training@gmail.com and we will set you up for Spond via email.  Further communications about the courses will be sent via Spond\, which is similar to WhatsApp.
URL:https://eastdorset.sdgr.org.uk/event/east-dorset-ringing-school-plain-bob-doubles-saturday-course-places-available-5/
LOCATION:Corfe Mullen
CATEGORIES:Training - Contact east.dorset.training@gmail.com
END:VEVENT
BEGIN:VEVENT
DTSTART;TZID=UTC:20250517T100000
DTEND;TZID=UTC:20250517T123000
DTSTAMP:20260421T131703
CREATED:20250315T153614Z
LAST-MODIFIED:20250502T145215Z
UID:1384-1747476000-1747485000@eastdorset.sdgr.org.uk
SUMMARY:East Dorset Ringing School - Plain Bob Doubles - Saturday Course - Course Full
DESCRIPTION:More helpers required – please see below for contact details. \nSuitable for \nThose able to ring the treble confidently to a touch of a Doubles method i.e acquired some ropesight. \nWant to apply for another course? \n\nEmailing east.dorset.training@gmail.com to apply for a place. Please note you will be signing up for all 6 sessions but it’s not a problem if you can only make 5 out of 6.\nDownloading the Spond app to your phone to join the Ringing School by using this link https://group.spond.com/XZGCR.  If you don’t have a smartphone\, please email east.dorset.training@gmail.com and we will set you up for Spond via email.  Further communications about the courses will be sent via Spond\, which is similar to WhatsApp.
URL:https://eastdorset.sdgr.org.uk/event/the-east-dorset-ringing-school-is-now-underway-suitable-for-those-able-to-ring-the-treble-confidently-to-a-touch-of-a-doubles-method-i-e-acquired-some-ropesight-want-to-apply-for-another-course/
CATEGORIES:Training - Contact east.dorset.training@gmail.com
END:VEVENT
BEGIN:VEVENT
DTSTART;TZID=UTC:20250514T100000
DTEND;TZID=UTC:20250514T120000
DTSTAMP:20260421T131703
CREATED:20250315T115254Z
LAST-MODIFIED:20250315T115254Z
UID:1372-1747216800-1747224000@eastdorset.sdgr.org.uk
SUMMARY:East Dorset Ringing School - Plain Bob Doubles - FULL
DESCRIPTION:The East Dorset Ringing School is now underway. \nSuitable for \nThose able to ring the treble confidently to a touch of a Doubles method i.e acquired some ropesight. \nWant to apply for another course? \n\nEmailing east.dorset.training@gmail.com to apply for a place. Please note you will be signing up for all 6 sessions but it’s not a problem if you can only make 5 out of 6.\nDownloading the Spond app to your phone to join the Ringing School by using this link https://group.spond.com/XZGCR.  If you don’t have a smartphone\, please email east.dorset.training@gmail.com and we will set you up for Spond via email.  Further communications about the courses will be sent via Spond\, which is similar to WhatsApp.
URL:https://eastdorset.sdgr.org.uk/event/east-dorset-ringing-school-plain-bob-doubles-full-3/
LOCATION:Shroton
CATEGORIES:Training - Contact east.dorset.training@gmail.com
END:VEVENT
BEGIN:VEVENT
DTSTART;TZID=UTC:20250503T100000
DTEND;TZID=UTC:20250503T120000
DTSTAMP:20260421T131703
CREATED:20250315T153524Z
LAST-MODIFIED:20250502T145132Z
UID:1382-1746266400-1746273600@eastdorset.sdgr.org.uk
SUMMARY:East Dorset Ringing School - Plain Bob Doubles - Saturday Course - Course Full
DESCRIPTION:More helpers required – please see below for contact details. \nSuitable for \nThose able to ring the treble confidently to a touch of a Doubles method i.e acquired some ropesight. \nWant to apply for another course? \n\nEmailing east.dorset.training@gmail.com to apply for a place. Please note you will be signing up for all 6 sessions but it’s not a problem if you can only make 5 out of 6.\nDownloading the Spond app to your phone to join the Ringing School by using this link https://group.spond.com/XZGCR.  If you don’t have a smartphone\, please email east.dorset.training@gmail.com and we will set you up for Spond via email.  Further communications about the courses will be sent via Spond\, which is similar to WhatsApp.
URL:https://eastdorset.sdgr.org.uk/event/east-dorset-ringing-school-plain-bob-doubles-saturday-course-places-available-4/
LOCATION:Winterborne Kingston
CATEGORIES:Training - Contact east.dorset.training@gmail.com
END:VEVENT
BEGIN:VEVENT
DTSTART;TZID=UTC:20250430T100000
DTEND;TZID=UTC:20250430T120000
DTSTAMP:20260421T131703
CREATED:20250315T114738Z
LAST-MODIFIED:20250315T115025Z
UID:1368-1746007200-1746014400@eastdorset.sdgr.org.uk
SUMMARY:East Dorset Ringing School - Plain Bob Doubles - FULL
DESCRIPTION:The East Dorset Ringing School is now underway. \nSuitable for \nThose able to ring the treble confidently to a touch of a Doubles method i.e acquired some ropesight. \nWant to apply for another course? \n\nEmailing east.dorset.training@gmail.com to apply for a place. Please note you will be signing up for all 6 sessions but it’s not a problem if you can only make 5 out of 6.\nDownloading the Spond app to your phone to join the Ringing School by using this link https://group.spond.com/XZGCR.  If you don’t have a smartphone\, please email east.dorset.training@gmail.com and we will set you up for Spond via email.  Further communications about the courses will be sent via Spond\, which is similar to WhatsApp.
URL:https://eastdorset.sdgr.org.uk/event/east-dorset-ringing-school-plain-bob-doubles-full-2/
LOCATION:Hampreston
CATEGORIES:Training - Contact east.dorset.training@gmail.com
END:VEVENT
BEGIN:VEVENT
DTSTART;TZID=UTC:20250419T100000
DTEND;TZID=UTC:20250419T120000
DTSTAMP:20260421T131703
CREATED:20250315T153423Z
LAST-MODIFIED:20250315T153423Z
UID:1380-1745056800-1745064000@eastdorset.sdgr.org.uk
SUMMARY:East Dorset Ringing School - Plain Bob Doubles - Saturday Course - Places available
DESCRIPTION:The East Dorset Ringing School is now underway. \nSuitable for \nThose able to ring the treble confidently to a touch of a Doubles method i.e acquired some ropesight. \nWant to apply for another course? \n\nEmailing east.dorset.training@gmail.com to apply for a place. Please note you will be signing up for all 6 sessions but it’s not a problem if you can only make 5 out of 6.\nDownloading the Spond app to your phone to join the Ringing School by using this link https://group.spond.com/XZGCR.  If you don’t have a smartphone\, please email east.dorset.training@gmail.com and we will set you up for Spond via email.  Further communications about the courses will be sent via Spond\, which is similar to WhatsApp.
URL:https://eastdorset.sdgr.org.uk/event/east-dorset-ringing-school-plain-bob-doubles-saturday-course-places-available-3/
CATEGORIES:Training - Contact east.dorset.training@gmail.com
END:VEVENT
BEGIN:VEVENT
DTSTART;TZID=UTC:20250416T100000
DTEND;TZID=UTC:20250416T120000
DTSTAMP:20260421T131703
CREATED:20250315T114027Z
LAST-MODIFIED:20250315T114329Z
UID:1363-1744797600-1744804800@eastdorset.sdgr.org.uk
SUMMARY:East Dorset Ringing School - Plain Bob Doubles FULL
DESCRIPTION:The East Dorset Ringing School is now underway. \nSuitable for \nThose able to ring the treble confidently to a touch of a Doubles method i.e acquired some ropesight. \nWant to apply for another course? \n\nEmailing east.dorset.training@gmail.com to apply for a place. Please note you will be signing up for all 6 sessions but it’s not a problem if you can only make 5 out of 6.\nDownloading the Spond app to your phone to join the Ringing School by using this link https://group.spond.com/XZGCR.  If you don’t have a smartphone\, please email east.dorset.training@gmail.com and we will set you up for Spond via email.  Further communications about the courses will be sent via Spond\, which is similar to WhatsApp.
URL:https://eastdorset.sdgr.org.uk/event/east-dorset-ringing-school-bob-doubles-full/
LOCATION:Lytchett Matravers
CATEGORIES:Training - Contact east.dorset.training@gmail.com
END:VEVENT
BEGIN:VEVENT
DTSTART;TZID=UTC:20250405T100000
DTEND;TZID=UTC:20250405T120000
DTSTAMP:20260421T131703
CREATED:20250315T153336Z
LAST-MODIFIED:20250315T153336Z
UID:1378-1743847200-1743854400@eastdorset.sdgr.org.uk
SUMMARY:East Dorset Ringing School - Plain Bob Doubles - Saturday Course - Places available
DESCRIPTION:The East Dorset Ringing School is now underway. \nSuitable for \nThose able to ring the treble confidently to a touch of a Doubles method i.e acquired some ropesight. \nWant to apply for another course? \n\nEmailing east.dorset.training@gmail.com to apply for a place. Please note you will be signing up for all 6 sessions but it’s not a problem if you can only make 5 out of 6.\nDownloading the Spond app to your phone to join the Ringing School by using this link https://group.spond.com/XZGCR.  If you don’t have a smartphone\, please email east.dorset.training@gmail.com and we will set you up for Spond via email.  Further communications about the courses will be sent via Spond\, which is similar to WhatsApp.
URL:https://eastdorset.sdgr.org.uk/event/east-dorset-ringing-school-plain-bob-doubles-saturday-course-places-available-2/
CATEGORIES:Training - Contact east.dorset.training@gmail.com
END:VEVENT
BEGIN:VEVENT
DTSTART;TZID=UTC:20250402T100000
DTEND;TZID=UTC:20250402T120000
DTSTAMP:20260421T131703
CREATED:20250315T112755Z
LAST-MODIFIED:20250315T114255Z
UID:1359-1743588000-1743595200@eastdorset.sdgr.org.uk
SUMMARY:East Dorset Ringing School - Plain Bob Doubles - FULL
DESCRIPTION:The East Dorset Ringing School is now underway. \nSuitable for \nThose able to ring the treble confidently to a touch of a Doubles method i.e acquired some ropesight. \nWant to apply for another course? \n\nEmailing east.dorset.training@gmail.com to apply for a place. Please note you will be signing up for all 6 sessions but it’s not a problem if you can only make 5 out of 6.\nDownloading the Spond app to your phone to join the Ringing School by using this link https://group.spond.com/XZGCR.  If you don’t have a smartphone\, please email east.dorset.training@gmail.com and we will set you up for Spond via email.  Further communications about the courses will be sent via Spond\, which is similar to WhatsApp.
URL:https://eastdorset.sdgr.org.uk/event/east-dorset-ringing-school/
LOCATION:Canford Magna
CATEGORIES:Training - Contact east.dorset.training@gmail.com
END:VEVENT
BEGIN:VEVENT
DTSTART;TZID=UTC:20250322T100000
DTEND;TZID=UTC:20250322T120000
DTSTAMP:20260421T131703
CREATED:20250315T153152Z
LAST-MODIFIED:20250315T153152Z
UID:1376-1742637600-1742644800@eastdorset.sdgr.org.uk
SUMMARY:East Dorset Ringing School - Plain Bob Doubles - Saturday Course - Places available
DESCRIPTION:The East Dorset Ringing School is now underway. \nSuitable for \nThose able to ring the treble confidently to a touch of a Doubles method i.e acquired some ropesight. \nWant to apply for another course? \n\nEmailing east.dorset.training@gmail.com to apply for a place. Please note you will be signing up for all 6 sessions but it’s not a problem if you can only make 5 out of 6.\nDownloading the Spond app to your phone to join the Ringing School by using this link https://group.spond.com/XZGCR.  If you don’t have a smartphone\, please email east.dorset.training@gmail.com and we will set you up for Spond via email.  Further communications about the courses will be sent via Spond\, which is similar to WhatsApp.
URL:https://eastdorset.sdgr.org.uk/event/east-dorset-ringing-school-plain-bob-doubles-saturday-course-places-available/
CATEGORIES:Training - Contact east.dorset.training@gmail.com
END:VEVENT
BEGIN:VEVENT
DTSTART;TZID=UTC:20250319T100000
DTEND;TZID=UTC:20250319T120000
DTSTAMP:20260421T131703
CREATED:20250315T114458Z
LAST-MODIFIED:20250315T114458Z
UID:1366-1742378400-1742385600@eastdorset.sdgr.org.uk
SUMMARY:East Dorset Ringing School - Plain Bob Doubles - FULL
DESCRIPTION:The East Dorset Ringing School is now underway. \nSuitable for \nThose able to ring the treble confidently to a touch of a Doubles method i.e acquired some ropesight. \nWant to apply for another course? \n\nEmailing east.dorset.training@gmail.com to apply for a place. Please note you will be signing up for all 6 sessions but it’s not a problem if you can only make 5 out of 6.\nDownloading the Spond app to your phone to join the Ringing School by using this link https://group.spond.com/XZGCR.  If you don’t have a smartphone\, please email east.dorset.training@gmail.com and we will set you up for Spond via email.  Further communications about the courses will be sent via Spond\, which is similar to WhatsApp.
URL:https://eastdorset.sdgr.org.uk/event/east-dorset-ringing-school-plain-bob-doubles-full/
LOCATION:Corfe Mullen
CATEGORIES:Training - Contact east.dorset.training@gmail.com
END:VEVENT
BEGIN:VEVENT
DTSTART;TZID=UTC:20241123T100000
DTEND;TZID=UTC:20241123T120000
DTSTAMP:20260421T131703
CREATED:20240824T152330Z
LAST-MODIFIED:20240824T152330Z
UID:1275-1732356000-1732363200@eastdorset.sdgr.org.uk
SUMMARY:Plain Bob Doubles
DESCRIPTION:Trainer –  David Warwick\n\n 	Tower TBC\n 	Course Requirements\n\n 
URL:https://eastdorset.sdgr.org.uk/event/plain-bob-doubles/
CATEGORIES:Training - Contact east.dorset.training@gmail.com
END:VEVENT
BEGIN:VEVENT
DTSTART;TZID=UTC:20241026T100000
DTEND;TZID=UTC:20241026T120000
DTSTAMP:20260421T131703
CREATED:20240824T151806Z
LAST-MODIFIED:20240920T084828Z
UID:1271-1729936800-1729944000@eastdorset.sdgr.org.uk
SUMMARY:Trebling to Doubles
DESCRIPTION:Trainer – Jack Pease\n\n\n\nTower Witchampton\nCourse Requirements
URL:https://eastdorset.sdgr.org.uk/event/trebling-to-doubles/
LOCATION:Witchampton
CATEGORIES:Training - Contact east.dorset.training@gmail.com
END:VEVENT
BEGIN:VEVENT
DTSTART;TZID=UTC:20240928T100000
DTEND;TZID=UTC:20240928T120000
DTSTAMP:20260421T131703
CREATED:20240824T150901Z
LAST-MODIFIED:20240920T084702Z
UID:1265-1727517600-1727524800@eastdorset.sdgr.org.uk
SUMMARY:Raising & Lowering in Peal
DESCRIPTION:Trainer – John Riley\n\n\n\nTower Canford Magna\nCourse Requirements
URL:https://eastdorset.sdgr.org.uk/event/raising-lowering-in-peal/
LOCATION:Canford Magna
CATEGORIES:Training - Contact east.dorset.training@gmail.com
END:VEVENT
BEGIN:VEVENT
DTSTART;TZID=UTC:20240706T140000
DTEND;TZID=UTC:20240706T160000
DTSTAMP:20260421T131703
CREATED:20240525T092307Z
LAST-MODIFIED:20240608T125842Z
UID:1227-1720274400-1720281600@eastdorset.sdgr.org.uk
SUMMARY:Calling Workshop
DESCRIPTION:Trainer – Sue Bateman\n\n\n\nTower Lytchett Matravers\nCourse Requirements\nApply
URL:https://eastdorset.sdgr.org.uk/event/calling-workshop/
LOCATION:Lytchett Matravers
CATEGORIES:Training - Contact east.dorset.training@gmail.com
END:VEVENT
BEGIN:VEVENT
DTSTART;TZID=UTC:20240525T100000
DTEND;TZID=UTC:20240525T123000
DTSTAMP:20260421T131703
CREATED:20240319T122257Z
LAST-MODIFIED:20240418T101637Z
UID:1179-1716631200-1716640200@eastdorset.sdgr.org.uk
SUMMARY:Trebling to a Doubles Method
DESCRIPTION:Trainer – Sue Bateman\n\n\n\nTower Corfe Mullen\nCourse Requirements
URL:https://eastdorset.sdgr.org.uk/event/what-would-you-like-us-to-organise-for-you/
LOCATION:Corfe Mullen
CATEGORIES:Training - Contact east.dorset.training@gmail.com
END:VEVENT
BEGIN:VEVENT
DTSTART;TZID=UTC:20240427T100000
DTEND;TZID=UTC:20240427T123000
DTSTAMP:20260421T131703
CREATED:20240318T224608Z
LAST-MODIFIED:20240418T103304Z
UID:1169-1714212000-1714221000@eastdorset.sdgr.org.uk
SUMMARY:Raising and Lowering in Peal
DESCRIPTION:Trainer – TBC\nCourse Requirements
URL:https://eastdorset.sdgr.org.uk/event/raising-and-lowering-in-peal/
LOCATION:Canford Magna
CATEGORIES:Training - Contact east.dorset.training@gmail.com
END:VEVENT
BEGIN:VEVENT
DTSTART;TZID=UTC:20240323T100000
DTEND;TZID=UTC:20240323T123000
DTSTAMP:20260421T131703
CREATED:20240318T215041Z
LAST-MODIFIED:20240321T101843Z
UID:1162-1711188000-1711197000@eastdorset.sdgr.org.uk
SUMMARY:Stedman Doubles
DESCRIPTION:Trainer: Angie Jasper \nCourse Requirements \n\nApply
URL:https://eastdorset.sdgr.org.uk/event/stedman-doubles/
LOCATION:Witchampton
CATEGORIES:Training - Contact east.dorset.training@gmail.com
END:VEVENT
END:VCALENDAR